Workbook

Sheet Introduction 
B1: Manchester Airport Group GRI Content Index 2025/26
B3: Manchester Airport Group (MAG) presents its reporting against the Global Reporting Initiative (GRI). This provides a structure to our Sustainability reporting and provides information and data for topics that are material to our operations and sites. MAG has reported in accordance with the GRI Universal Standards 2021 for the period 1st April 2025 - 31st March 2026 using GR1: Foundation 2021 and applicable GRI Sector Standard(s) GRI G4: Airport Operators.

Sheet GRI 2-7
A1: GRI 2-7
A2: Total number of employees broken down by type of employment contract and gender
B4: Business Unit | C4: Units | D4: 2019/20 | E4: 2020/21 | F4: 2021/22 | G4: 2022/23 | H4: 2023/24 | I4: 2024/25 | J4: 2025/26
B5: Manchester | C5: % of male colleagues on full time employment contracts | I5: 0.5262 | J5: 0.547
C6: % of female colleagues on full time employment contracts | I6: 0.2113 | J6: 0.24
C7: % of male colleagues on part time employment contracts | I7: 0.1658 | J7: 0.121
C8: % of female colleagues on part time employment contracts | I8: 0.0967 | J8: 0.092
C9: % of all colleagues on full time employment contracts | D9: 0.67333984 | E9: 0.69169073 | F9: 0.746 | G9: 0.7516 | H9: 0.7345 | I9: 0.7375 | J9: 0.787
C10: % of all colleagues on part time employment contracts | D10: 0.32666016 | E10: 0.30830927 | F10: 0.254 | G10: 0.2484 | H10: 0.2655 | I10: 0.2625 | J10: 0.213
B11: East Midlands | C11: % of male colleagues on full time employment contracts | I11: 0.3835 | J11: 0.4
C12: % of female colleagues on full time employment contracts | I12: 0.1998 | J12: 0.228
C13: % of male colleagues on part time employment contracts | I13: 0.2008 | J13: 0.164
C14: % of female colleagues on part time employment contracts | I14: 0.2159 | J14: 0.208
C15: % of colleagues on full time employment contracts | D15: 0.67333984 | E15: 0.69169073 | F15: 0.746 | G15: 0.7516 | H15: 0.7345 | I15: 0.5833 | J15: 0.629
C16: % of colleagues on part time employment contracts | D16: 0.37950938 | E16: 0.38111888 | F16: 0.3017 | G16: 0.3622 | H16: 0.3828 | I16: 0.4167 | J16: 0.371
B17: London Stansted | C17: % of male colleagues on full time employment contracts | I17: 0.4203 | J17: 0.428
C18: % of female colleagues on full time employment contracts | I18: 0.2289 | J18: 0.23
C19: % of male colleagues on part time employment contracts | I19: 0.1669 | J19: 0.161
C20: % of female colleagues on part time employment contracts | I20: 0.1839 | J20: 0.181
C21: % of colleagues on full time employment contracts | D21: 0.6114106 | E21: 0.67482292 | F21: 0.6683 | G21: 0.623 | H21: 0.6101 | I21: 0.6492 | J21: 0.658
C22: % of colleagues on part time employment contracts | D22: 0.3885894 | E22: 0.32517708 | F22: 0.3317 | G22: 0.377 | H22: 0.3899 | I22: 0.3508 | J22: 0.342
B23: CAVU (MAN, EMA & STN) | C23: % of male colleagues on full time employment contracts | I23: 0.3903 | J23: 0.433
C24: % of female colleagues on full time employment contracts | I24: 0.3407 | J24: 0.44
C25: % of male colleagues on part time employment contracts | I25: 0.0849 | J25: 0.029
C26: % of female colleagues on part time employment contracts | I26: 0.1841 | J26: 0.098
C27: % of colleagues on full time employment contracts | D27: 0 | E27: 0 | F27: 0 | G27: 0 | H27: 0 | I27: 0.7311 | J27: 0.873
C28: % of colleagues on part time employment contracts | D28: 0 | E28: 0 | F28: 0 | G28: 0 | H28: 0 | I28: 0.2689 | J28: 0.127
B29: London Office | C29: % of male colleagues on full time employment contracts | I29: 0.8182 | J29: 0.667
C30: % of female colleagues on full time employment contracts | I30: 0.1818 | J30: 0.333
C31: % of male colleagues on part time employment contracts | I31: 0 | J31: 0
C32: % of female colleagues on part time employment contracts | I32: 0 | J32: 0
C33: % of colleagues on full time employment contracts | D33: 0.9 | E33: 1 | F33: 1 | G33: 1 | H33: 1 | I33: 1 | J33: 1
C34: % of colleagues on part time employment contracts | D34: 0.1 | E34: 0 | F34: 0 | G34: 0 | H34: 0 | I34: 0 | J34: 0
B35: Chicago Office | C35: % of male colleagues on full time employment contracts | I35: 0.48 | J35: 0.364
C36: % of female colleagues on full time employment contracts | I36: 0.52 | J36: 0.636
C37: % of male colleagues on part time employment contracts | I37: 0 | J37: 0
C38: % of female colleagues on part time employment contracts | I38: 0 | J38: 0
C39: % of colleagues on full time employment contracts | D39: 1 | E39: 1 | F39: 1 | G39: 1 | H39: 1 | I39: 1 | J39: 0.364
C40: % of colleagues on part time employment contracts | D40: 0 | E40: 0 | F40: 0 | G40: 0 | H40: 0 | I40: 0 | J40: 0.636
B41: New York Office | C41: % of male colleagues on full time employment contracts | I41: N/A | J41: N/A
...

Sheet GRI 2-21
A1: GRI 2-21
A2: Remuneration and Incentives
D4: 2019/20 | E4: 2020/21 | F4: 2021/22 | G4: 2022/23 | H4: 2023/24 | I4: 2024/25 | J4: 2025/26
B5: Ratio of the annual total compensation for the organisation’s highest-paid individual to the median annual total compensation for all employees (excluding the highest-paid individual) in the same country. | D5: 1.00 : 0.04 | E5: 1.00 : 0.05 | F5: 1.00 : 0.04 | G5: 1.00 : 0.04 | H5: 1.00 : 0.011 [1] | I5: 1.00: 0.016 | J5: 1.00 : 0.015
B7: Ratio of the percentage increase in annual total compensation for the organisation’s highest-paid individual in each country of significant operations to the median percentage increase in annual total compensation for all employees (excluding the highest-paid individual) in the same country. | D7: Data not available. | E7: Data not available. | F7: Data not available. | G7: Data not available. | H7: Data not available. | I7: Data not available. | J7: Data not available.
B8: Report contextual information necessary to understand the data and how the data has been compiled. | D8: Data not available. | E8: Data not available. | F8: Data not available. | G8: Data not available. | H8: Data not available. | I8: Data not available. | J8: Data not available.
B9: [1] Impacts of bonus payments

Sheet GRI 2-30
A1: GRI 2-30 | C1: `
A2: Percentage of total employees covered by collective bargaining agreement
C4: 2018/19 | D4: 2019/20 | E4: 2020/21 | F4: 2021/22 | G4: 2022/23 | H4: 2023/24 | I4: 2024/25 | J4: 2025/26
B5: Employees covered by collective bargaining agreements [1] | C5: 6375 | D5: 6344 | E5: 4719 | F5: 4559 | G5: 6429 | H5: 7591 | I5: 7497 | J5: 7140
B6: As a percentage against the total employees [1] | C6: 0.91162591 | D6: 0.90267501 | E6: 0.8987 | F6: 0.904 | G6: 0.9172 | H6: 0.8675 | I6: 0.861 | J6: 0.882
B7: [1] As of 2024/25, our data now includes global employees (incl. CAVU) covered by bargaining agreements.

Sheet GRI 202-1
A1: GRI 202-1
A2: Ratios of standard entry level wage by gender compared to local minimum wage at significant locations of operation.
A4: Salary Ratio by Employee Category (Based on Average Salaries per Band per hour)
A5: To calculate the range of ratios of standard entry level wage by gender compared to local minimum wage, we used data for all staff within tiers with an average salary that meet or are below the national average salary* of £29,685. No Employee of MAG is paid below the national minimum wage. The significant location is the group.
C8: 2019/20 | J8: 2020/21 | Q8: 2021/22 | X8: 2022/23 | AE8: 2023/24 | AL8: 2024/25 | AS8: 2025/26
C9: All Colleagues in Tiers 5 - 7 (Levels from CEO) | J9: All Colleagues in Tiers 5 - 7 (Levels from CEO) | Q9: All Colleagues in Tiers 5 - 7 (Levels from CEO) | X9: All Colleagues in Tiers 5 - 7 (Levels from CEO) | AE9: All Colleagues in Tiers 5 - 7 (Levels from CEO) | AL9: All Colleagues in Tiers 5 - 7 (Levels from CEO) | AS9: All Colleagues in Tiers 5 - 7 (Levels from CEO)
B10: Tier 7 | C10: Total Number of Colleagues | D10: Number of Full Time Employees | E10: Number of Part Time Employees | F10: Number of Casual Employees | G10: Average Salary | H10: Average Hourly Rate | I10: Ratio | J10: Total Number of Colleagues | K10: Number of Full Time Employees | L10: Number of Part Time Employees | M10: Number of Casual Employees | N10: Average Salary | O10: Average Hourly Rate | P10: Ratio | Q10: Total Number of Colleagues | R10: Number of Full Time Employees | S10: Number of Part Time Employees | T10: Number of Casual Employees | U10: Average Salary | V10: Average Hourly Rate | W10: Ratio | X10: Total Number of Colleagues | Y10: Number of Full Time Employees | Z10: Number of Part Time Employees | AA10: Number of Casual Employees | AB10: Average Salary | AC10: Average Hourly Rate | AD10: Ratio | AE10: Total Number of Colleagues | AF10: Number of Full Time Employees | AG10: Number of Part Time Employees | AH10: Number of Casual Employees | AI10: Average Salary | AJ10: Average Hourly Rate | AK10: Ratio | AL10: Total Number of Colleagues | AM10: Number of Full Time Employees | AN10: Number of Part Time Employees | AO10: Number of Casual Employees | AP10: Average Salary | AQ10: Average Hourly Rate | AR10: Ratio | AS10: Total Number of Colleagues | AT10: Number of Full Time Employees | AU10: Number of Part Time Employees | AV10: Number of Casual Employees | AW10: Average Salary | AX10: Average Hourly Rate | AY10: Ratio
B11: Male | C11: 1666 | D11: 1033 | E11: 630 | F11: 3 | G11: 35615.18 | H11: 17.12 | I11: 0.96 | J11: 1716 | K11: 896 | L11: 817 | M11: 3 | N11: 26730.928 | O11: 12.778607 | P11: 1 | Q11: 1832 | R11: 1198 | S11: 631 | T11: 3 | U11: 18595.55 | V11: 10.49 | W11: 0.97 | X11: 1336 | Y11: 768 | Z11: 562 | AA11: 6 | AB11: 21605.5 | AC11: 11.69 | AD11: 0.98 | AE11: 3130 | AF11: 1888 | AG11: 1233 | AH11: 9 | AI11: 27320.85 | AJ11: 12.73 | AK11: 0.99 | AL11: 3346 | AM11: 2231 | AN11: 1111 | AO11: 4 | AP11: 29523.94 | AQ11: 13.59 | AR11: 0.99 | AS11: 3151 | AT11: 2082 | AU11: 1065 | AV11: 4 | AW11: 30467.7 | AX11: 13.91 | AY11: 0.99
B12: Female | C12: 782 | D12: 325 | E12: 457 | F12: 0 | G12: 37282.53 | H12: 17.83 | I12: 1 | J12: 1069 | K12: 441 | L12: 628 | M12: 0 | N12: 26123.126 | O12: 12.431441 | P12: 0.97726221 | Q12: 1243 | R12: 680 | S12: 563 | T12: 0 | U12: 17020.38 | V12: 10.82 | W12: 1 | X12: 663 | Y12: 324 | Z12: 339 | AA12: 0 | AB12: 20782.11 | AC12: 11.98 | AD12: 1 | AE12: 1890 | AF12: 913 | AG12: 966 | AH12: 11 | AI12: 25582.76 | AJ12: 12.89 | AK12: 1 | AL12: 2072 | AM12: 1093 | AN12: 968 | AO12: 11 | AP12: 27048.24 | AQ12: 13.72 | AR12: 1 | AS12: 2035 | AT12: 1032 | AU12: 994 | AV12: 9 | AW12: 27755.35 | AX12: 14.04 | AY12: 1
B14: Tier 6 | C14: Total Number of Colleagues | D14: Number of Full Time Employees | E14: Number of Part Time Employees | F14: Number of Casual Employees | G14: Average Salary | H14: Average Hourly Rate | I14: Ratio | J14: Total Number of Colleagues | K14: Number of Full Time Employees | L14: Number of Part Time Employees | M14: Number of Casual Employees | N14: Average Salary | O14: Average Hourly Rate | P14: Ratio | Q14: Total Number of Colleagues | R14: Number of Full Time Employees | S14: Number of Part Time Employees | T14: Number of Casual Employees | U14: Average Salary | V14: Average Hourly Rate | W14: Ratio | X14: Total Number of Colleagues | Y14: Number of Full Time Employees | Z14: Number of Part Time Employees | AA14: Number of Casual Employees | AB14: Average Salary | AC14: Average Hourly Rate | AD14: Ratio | AE14: Total Number of Colleagues | AF14: Number of Full Time Employees | AG14: Number of Part Time Employees | AH14: Number of Casual Employees | AI14: Average Salary | AJ14: Average Hourly Rate | AK14: Ratio | AL14: Total Number of Colleagues | AM14: Number of Full Time Employees | AN14: Number of Part Time Employees | AO14: Number of Casual Employees | AP14: Average Salary | AQ14: Average Hourly Rate | AR14: Ratio | AS14: Total Number of Colleagues | AT14: Number of Full Time Employees | AU14: Number of Part Time Employees | AV14: Number of Casual Employees | AW14: Average Salary | AX14: Average Hourly Rate | AY14: Ratio
B15: Male | C15: 1046 | D15: 829 | E15: 217 | F15: 0 | G15: 37151.58 | H15: 17.92 | I15: 1 | J15: 842 | K15: 769 | L15: 73 | M15: 0 | N15: 36578.334 | O15: 17.613717 | P15: 1 | Q15: 526 | R15: 496 | S15: 30 | T15: 0 | U15: 36727.42 | V15: 18.4 | W15: 1 | X15: 1605 | Y15: 1164 | Z15: 433 | AA15: 8 | AB15: 27307.938 | AC15: 14.278646 | AD15: 1 | AE15: 606 | AF15: 571 | AG15: 35 | AH15: 0 | AI15: 45037.59 | AJ15: 20.2 | AK15: 1 | AL15: 610 | AM15: 574 | AN15: 36 | AO15: 0 | AP15: 47409.48 | AQ15: 21.43 | AR15: 1 | AS15: 708 | AT15: 665 | AU15: 43 | AV15: 0 | AW15: 48603.95 | AX15: 21.9 | AY15: 1
B16: Female | C16: 659 | D16: 379 | E16: 279 | F16: 1 | G16: 33569.52 | H16: 16.13 | I16: 0.9 | J16: 318 | K16: 241 | L16: 77 | M16: 0 | N16: 32745.685 | O16: 15.779654 | P16: 0.8952208 | Q16: 190 | R16: 131 | S16: 59 | T16: 0 | U16: 32339.31 | V16: 17.27 | W16: 0.94 | X16: 788 | Y16: 434 | Z16: 351 | AA16: 3 | AB16: 23217.083 | AC16: 13.247663 | AD16: 0.93 | AE16: 234 | AF16: 196 | AG16: 38 | AH16: 0 | AI16: 39883.86 | AJ16: 19.14 | AK16: 0.95 | AL16: 247 | AM16: 201 | AN16: 46 | AO16: 0 | AP16: 41625.64 | AQ16: 20.21 | AR16: 0.94 | AS16: 270 | AT16: 219 | AU16: 51 | AV16: 0 | AW16: 43202.8 | AX16: 21.03 | AY16: 0.96
B18: Tier 5 | C18: Total Number of Colleagues | D18: Number of Full Time Employees | E18: Number of Part Time Employees | F18: Number of Casual Employees | G18: Average Salary | H18: Average Hourly Rate | I18: Ratio | J18: Total Number of Colleagues | K18: Number of Full Time Employees | L18: Number of Part Time Employees | M18: Number of Casual Employees | N18: Average Salary | O18: Average Hourly Rate | P18: Ratio | Q18: Total Number of Colleagues | R18: Number of Full Time Employees | S18: Number of Part Time Employees | T18: Number of Casual Employees | U18: Average Salary | V18: Average Hourly Rate | W18: Ratio | X18: Total Number of Colleagues | Y18: Number of Full Time Employees | Z18: Number of Part Time Employees | AA18: Number of Casual Employees | AB18: Average Salary | AC18: Average Hourly Rate | AD18: Ratio | AE18: Total Number of Colleagues | AF18: Number of Full Time Employees | AG18: Number of Part Time Employees | AH18: Number of Casual Employees | AI18: Average Salary | AJ18: Average Hourly Rate | AK18: Ratio | AL18: Total Number of Colleagues | AM18: Number of Full Time Employees | AN18: Number of Part Time Employees | AO18: Number of Casual Employees | AP18: Average Salary | AQ18: Average Hourly Rate | AR18: Ratio | AS18: Total Number of Colleagues | AT18: Number of Full Time Employees | AU18: Number of Part Time Employees | AV18: Number of Casual Employees | AW18: Average Salary | AX18: Average Hourly Rate | AY18: Ratio
B19: Male | C19: 464 | D19: 423 | E19: 41 | F19: 0 | G19: 43694.5 | H19: 21.66 | I19: 1 | J19: 446 | K19: 431 | L19: 15 | M19: 0 | N19: 39065.993 | O19: 19.394709 | P19: 1 | Q19: 211 | R19: 210 | S19: 1 | T19: 0 | U19: 38370.28 | V19: 18.9 | W19: 1 | X19: 771 | Y19: 669 | Z19: 97 | AA19: 5 | AB19: 34009.401 | AC19: 17.209614 | AD19: 1 | AE19: 269 | AF19: 267 | AG19: 2 | AH19: 0 | AI19: 46840.21 | AJ19: 21.74 | AK19: 1 | AL19: 299 | AM19: 296 | AN19: 3 | AO19: 0 | AP19: 48876.31 | AQ19: 22.76 | AR19: 1 | AS19: 404 | AT19: 394 | AU19: 10 | AV19: 0 | AW19: 50845.84 | AX19: 23.31 | AY19: 1
B20: Female | C20: 342 | D20: 263 | E20: 78 | F20: 1 | G20: 36903.48 | H20: 18.39 | I20: 0.84 | J20: 225 | K20: 195 | L20: 30 | M20: 0 | N20: 33502.105 | O20: 16.682978 | P20: 0.8575772 | Q20: 108 | R20: 101 | S20: 7 | T20: 0 | U20: 35663.32 | V20: 18.27 | W20: 0.97 | X20: 447 | Y20: 348 | Z20: 96 | AA20: 3 | AB20: 28945.245 | AC20: 15.30728 | AD20: 0.89 | AE20: 166 | AF20: 152 | AG20: 14 | AH20: 0 | AI20: 40385.21 | AJ20: 19.99 | AK20: 0.92 | AL20: 185 | AM20: 175 | AN20: 10 | AO20: 0 | AP20: 42361.31 | AQ20: 20.56 | AR20: 0.9 | AS20: 203 | AT20: 193 | AU20: 10 | AV20: 0 | AW20: 45111.01 | AX20: 21.57 | AY20: 0.93
C22: Breakdown by National Minimum Wage Groups | J22: Breakdown by National Minimum Wage Groups | Q22: Breakdown by National Minimum Wage Groups | X22: Breakdown by National Minimum Wage Groups | AE22: Breakdown by National Minimum Wage Groups | AL22: Breakdown by National Minimum Wage Groups | AT22: Breakdown by National Minimum Wage Groups
C23: Under 18 Years of Age | J23: Under 18 Years of Age | Q23: Under 18 Years of Age | X23: Under 18 Years of Age | AE23: Under 18 Years of Age | AL23: Under 18 Years of Age | AT23: Under 18 Years of Age
C24: Number of Colleagues | D24: Average Hourly Rate | E24: National Minimum Wage | F24: % Average Salary vs Minimum Wage | G24: Ratio | J24: Number of Colleagues | K24: Average Hourly Rate | L24: National Minimum Wage | M24: % Average Salary vs Minimum Wage | N24: Ratio | Q24: Number of Colleagues | R24: Average Hourly Rate | S24: National Minimum Wage | T24: % Average Salary vs Minimum Wage | U24: Ratio | X24: Number of Colleagues | Y24: Average Hourly Rate | Z24: National Minimum Wage | AA24: % Average Salary vs Minimum Wage | AB24: Ratio | AE24: Number of Colleagues | AF24: Average Hourly Rate | AG24: National Minimum Wage | AH24: % Average Salary vs Minimum Wage | AI24: Ratio | AL24: Number of Colleagues | AM24: Average Hourly Rate | AN24: National Minimum Wage | AO24: % Average Salary vs Minimum Wage | AP24: Ratio | AT24: Number of Colleagues | AU24: Average Hourly Rate | AV24: National Minimum Wage | AW24: % Average Salary vs Minimum Wage | AX24: Ratio
B25: Male | C25: 3 | D25: 7.44 | E25: 4.55 | F25: 1.63 | G25: 0.81 | J25: 3 | K25: 8.7933333 | L25: 4.55 | M25: 1.9326007 | N25: 0.92805629 | Q25: 0 | R25: n/a | S25: 4.62 | T25: n/a | U25: n/a | X25: 2 | Y25: 13.09 | Z25: 4.81 | AA25: 2.72 | AB25: 1 | AE25: 1 | AF25: 14.19 | AG25: 5.28 | AH25: 2.6879 | AI25: 1 | AL25: 2 | AM25: 11.14 | AN25: 6.4 | AO25: 1.7401 | AP25: 1 | AT25: 1 | AU25: 14.82 | AV25: 8 | AW25: 1.166 | AX25: 1
B26: Female | C26: 3 | D26: 9.19 | E26: 4.55 | F26: 2.02 | G26: 1 | J26: 2 | K26: 9.475 | L26: 4.55 | M26: 2.0824176 | N26: 1 | Q26: 2 | R26: 10.18 | S26: 4.62 | T26: 2.2043 | U26: 1.00:2.2 | X26: 1 | Y26: 13.09 | Z26: 4.81 | AA26: 2.72 | AB26: 1 | AE26: 3 | AF26: 11.48 | AG26: 5.28 | AH26: 2.1749 | AI26: 0.81 | AL26: 0 | AM26: 0 | AN26: 6.4 | AO26: 0 | AP26: 0 | AT26: 0 | AU26: 0 | AV26: 8 | AW26: 0 | AX26: 0
C28: 18 - 20 Years of Age | J28: 18 - 20 Years of Age | Q28: 18 - 20 Years of Age | X28: 18 - 20 Years of Age | AE28: 18 - 20 Years of Age | AL28: 18 - 20 Years of Age | AT28: 18 - 20 Years of Age
C29: Number of Colleagues | D29: Average Hourly Rate | E29: National Minimum Wage | F29: % Average Salary vs Minimum Wage | G29: Ratio | J29: Number of Colleagues | K29: Average Hourly Rate | L29: National Minimum Wage | M29: % Average Salary vs Minimum Wage | N29: Ratio | Q29: Number of Colleagues | R29: Average Hourly Rate | S29: National Minimum Wage | T29: % Average Salary vs Minimum Wage | U29: Ratio | X29: Number of Colleagues | Y29: Average Hourly Rate | Z29: National Minimum Wage | AA29: % Average Salary vs Minimum Wage | AB29: Ratio | AE29: Number of Colleagues | AF29: Average Hourly Rate | AG29: National Minimum Wage | AH29: % Average Salary vs Minimum Wage | AI29: Ratio | AL29: Number of Colleagues | AM29: Average Hourly Rate | AN29: National Minimum Wage | AO29: % Average Salary vs Minimum Wage | AP29: Ratio | AT29: Number of Colleagues | AU29: Average Hourly Rate | AV29: National Minimum Wage | AW29: % Average Salary vs Minimum Wage | AX29: Ratio
B30: Male | C30: 64 | D30: 11.8 | E30: 6.45 | F30: 1.83 | G30: 0.87 | J30: 52 | K30: 10.245962 | L30: 6.45 | M30: 1.5885212 | N30: 0.98165923 | Q30: 43 | R30: 10.02 | S30: 6.56 | T30: 1.53 | U30: 1.00:1.53 | X30: 87 | Y30: 11.10359 | Z30: 6.83 | AA30: 1.63 | AB30: 0.99 | AE30: 143 | AF30: 11.79 | AG30: 7.49 | AH30: 1.5745 | AI30: 0.98 | AL30: 125 | AM30: 12.96 | AN30: 8.6 | AO30: 1.5075 | AP30: 1 | AT30: 79 | AU30: 13.74 | AV30: 10.85 | AW30: 1.2659 | AX30: 1
B31: Female | C31: 40 | D31: 13.57 | E31: 6.45 | F31: 2.1 | G31: 1 | J31: 23 | K31: 10.437391 | L31: 6.45 | M31: 1.6182002 | N31: 1 | Q31: 38 | R31: 10.22 | S31: 6.56 | T31: 1.56 | U31: 1.00:1.6 | X31: 62 | Y31: 11.2 | Z31: 6.83 | AA31: 1.64 | AB31: 1 | AE31: 98 | AF31: 12.09 | AG31: 7.49 | AH31: 1.6142 | AI31: 1 | AL31: 100 | AM31: 12.91 | AN31: 8.6 | AO31: 1.5016 | AP31: 0.99 | AT31: 77 | AU31: 13.23 | AV31: 10.85 | AW31: 1.2197 | AX31: 0.96
C33: 21 - 24 Years of Age | J33: 21 - 24 Years of Age | Q33: 21 - 24 Years of Age | X33: 21 - 24 Years of Age | AE33: 21 - 22 Years of Age | AL33: 21 or over (NMW) | AT33: 21 or over (NMW)
C34: Number of Colleagues | D34: Average Hourly Rate | E34: National Minimum Wage | F34: % Average Salary vs Minimum Wage | G34: Ratio | J34: Number of Colleagues | K34: Average Hourly Rate | L34: National Minimum Wage | M34: % Average Salary vs Minimum Wage | N34: Ratio | Q34: Number of Colleagues | R34: Average Hourly Rate | S34: National Minimum Wage | T34: % Average Salary vs Minimum Wage | U34: Ratio | X34: Number of Colleagues | Y34: Average Hourly Rate | Z34: National Minimum Wage | AA34: % Average Salary vs Minimum Wage | AB34: Ratio | AE34: Number of Colleagues | AF34: Average Hourly Rate | AG34: National Minimum Wage | AH34: % Average Salary vs Minimum Wage | AI34: Ratio | AL34: Number of Colleagues | AM34: Average Hourly Rate | AN34: National Minimum Wage | AO34: % Average Salary vs Minimum Wage | AP34: Ratio | AT34: Number of Colleagues | AU34: Average Hourly Rate | AV34: National Minimum Wage | AW34: % Average Salary vs Minimum Wage | AX34: Ratio
B35: Male | C35: 281 | D35: 13.69 | E35: 8.2 | F35: 1.67 | G35: 0.98 | J35: 201 | K35: 12.211343 | L35: 8.2 | M35: 1.4891882 | N35: 1 | Q35: 60 | R35: 11.22 | S35: 8.36 | T35: 1.34 | U35: 1.00:1.3 | X35: 100 | Y35: 11.77 | Z35: 9.18 | AA35: 1.28 | AB35: 0.96 | AE35: 128 | AF35: 12.98 | AG35: 10.18 | AH35: 1.2748 | AI35: 1 | AL35: 4939 | AM35: 18.84 | AN35: 11.44 | AO35: 1.6465 | AP35: 1 | AT35: 5011 | AU35: 19.76 | AV35: 12.21 | AW35: 1.6187 | AX35: 1
B36: Female | C36: 229 | D36: 13.99 | E36: 8.2 | F36: 1.71 | G36: 1 | J36: 153 | K36: 11.619412 | L36: 8.2 | M36: 1.4170014 | N36: 0.95152609 | Q36: 42 | R36: 10.6 | S36: 8.36 | T36: 1.27 | U36: 1.00:1.3 | X36: 88 | Y36: 12.15 | Z36: 9.18 | AA36: 1.32 | AB36: 1 | AE36: 126 | AF36: 12.52 | AG36: 10.18 | AH36: 1.2296 | AI36: 0.96 | AL36: 2839 | AM36: 17.89 | AN36: 11.44 | AO36: 1.5638 | AP36: 0.95 | AT36: 2923 | AU36: 18.75 | AV36: 12.21 | AW36: 1.5357 | AX36: 0.95
C38: Aged 25 or Over - National Living Wage | J38: Aged 25 or Over - National Living Wage | Q38: Aged 25 or Over - National Living Wage | X38: Aged 25 or Over - National Living Wage | AE38: Aged 23 or Over - National Living Wage
C39: Number of Colleagues | D39: Average Hourly Rate | E39: National Minimum Wage | F39: % Average Salary vs Minimum Wage | G39: Ratio | J39: Number of Colleagues | K39: Average Hourly Rate | L39: National Minimum Wage | M39: % Average Salary vs Minimum Wage | N39: Ratio | Q39: Number of Colleagues | R39: Average Hourly Rate | S39: National Minimum Wage | T39: % Average Salary vs Minimum Wage | U39: Ratio | X39: Number of Colleagues | Y39: Average Hourly Rate | Z39: National Minimum Wage | AA39: % Average Salary vs Minimum Wage | AB39: Ratio | AE39: Number of Colleagues | AF39: Average Hourly Rate | AG39: National Minimum Wage | AH39: % Average Salary vs Minimum Wage | AI39: Ratio
B40: Male | C40: 4086 | D40: 19.22 | E40: 8.72 | F40: 2.2 | G40: 1 | J40: 3141 | K40: 17.401929 | L40: 8.72 | M40: 1.9956341 | N40: 1 | Q40: 3121 | R40: 16.16 | S40: 8.91 | T40: 1.81 | U40: 1.00:1.8 | X40: 4022 | Y40: 16.17537 | Z40: 9.5 | AA40: 1.7 | AB40: 1 | AE40: 4441 | AF40: 17.89 | AG40: 10.42 | AH40: 1.7172 | AI40: 1
B41: Female | C41: 2322 | D41: 17.77 | E41: 8.72 | F41: 2.04 | G41: 0.92 | J41: 1676 | K41: 15.747142 | L41: 8.72 | M41: 1.8058649 | N41: 0.90490782 | Q41: 1737 | R41: 14.59 | S41: 8.91 | T41: 1.64 | U41: 1.00:1.6 | X41: 2086 | Y41: 15.390136 | Z41: 9.5 | AA41: 1.62 | AB41: 0.95 | AE41: 2405 | AF41: 16.91 | AG41: 10.42 | AH41: 1.6233 | AI41: 0.95

Sheet GRI 202-2
A1: GRI 202-2 Proportion of senior management hired from the local community
B3: 2025/26
A4: Percentage of senior management at significant locations of operation that are hired from the local community. | B4: Due to system constraints we are unable to provide this metric. We aim to work with our people team to provide this in the future.
A5: The definition used for ‘senior management’. | B5: Due to system constraints we are unable to provide this metric. We aim to work with our people team to provide this in the future.
A6: The organization’s geographical definition of ‘local’. | B6: Due to system constraints we are unable to provide this metric. We aim to work with our people team to provide this in the future.

Sheet GRI 204-1
B1: GRI 204-1
B2: Local Suppliers
D4: 2019/20 | E4: 2020/21 | F4: 2021/22 | G4: 2022/23 | H4: 2023/24 | I4: 2024/25 | J4: 2025/26
B5: East Midlands Airport | C5: Total number of suppliers | D5: 385 | E5: 293 | F5: 271 | G5: 306 | H5: 331 | I5: 366 | J5: 400
C6: Number of local suppliers (within 25 miles of airports) businesses. | D6: 81 | E6: 52 | F6: 46 | G6: 46 | H6: 52 | I6: 54 | J6: 56
C7: % of local suppliers (within 25 miles of airports) businesses. | D7: 0.21 | E7: 0.18 | F7: 0.17 | G7: 0.15 | H7: =H6/H5 -> 0.1570997 | I7: =I6/I5 -> 0.14754098 | J7: 0.14
C8: % of supply chain spend emissions reported | G8: n/a | H8: n/a | I8: n/a | J8: 1
B9: London Stansted Airport | C9: Total number of suppliers | D9: 455 | E9: 372 | F9: 361 | G9: 425 | H9: 371 | I9: 491 | J9: 532
C10: Number of local suppliers (within 25 miles of airports) businesses. | D10: 80 | E10: 66 | F10: 71 | G10: 83 | H10: 63 | I10: 72 | J10: 83
C11: % of local suppliers (within 25 miles of airports) businesses. | D11: 0.18 | E11: 0.18 | F11: 0.2 | G11: 0.2 | H11: =H10/H9 -> 0.16981132 | I11: =I10/I9 -> 0.14663951 | J11: 0.156
C12: % of supply chain spend emissions reported | G12: n/a | H12: n/a | I12: n/a | J12: 1
B13: Manchester Airport | C13: Total number of suppliers | D13: 717 | E13: 474 | F13: 450 | G13: 502 | H13: 567 | I13: 619 | J13: 681
C14: Number of local suppliers (within 25 miles). | D14: 264 | E14: 168 | F14: 166 | G14: 167 | H14: 195 | I14: 194 | J14: 209
C15: % number of local suppliers (within 25 miles). | D15: 0.37 | E15: 0.35 | F15: 0.37 | G15: 0.33 | H15: =H14/H13 -> 0.34391534 | I15: =I14/I13 -> 0.31340872 | J15: 0.307
C16: % of supply chain spend emissions reported | G16: n/a | H16: n/a | I16: n/a | J16: 1
B17: CAVU | C17: Total number of suppliers | D17: n/a | E17: n/a | F17: n/a | G17: n/a | H17: n/a | I17: n/a | J17: 142
C18: Number of local suppliers (within 25 miles of airports). | D18: n/a | E18: n/a | F18: n/a | G18: n/a | H18: n/a | I18: n/a | J18: 33
C19: % number of local suppliers (within 25 miles of airports). | D19: n/a | E19: n/a | F19: n/a | G19: n/a | H19: n/a | I19: n/a | J19: 0.232
C20: % of supply chain spend emissions reported | G20: n/a | H20: n/a | I20: n/a | J20: 1
B21: MAG | C21: Total number of suppliers | D21: 1557 | E21: =SUM(E13+E9+E5) -> 1139 | F21: 1082 | G21: 1233 | H21: =SUM(H5,H9,H13,H17) -> 1269 | I21: =SUM(I5,I9,I13,I17) -> 1476 | J21: 1755
C22: Number of local suppliers (within 25 miles of airports) businesses. | D22: 425 | E22: =E14+E10+E6 -> 286 | F22: 283 | G22: 296 | H22: =SUM(H6,H10,H14,H18) -> 310 | I22: =SUM(I6,I10,I14,I18) -> 320 | J22: 381
C23: % of local suppliers (within 25 miles of airports) businesses. | D23: 0.27 | E23: =(E22/E21)*1 -> 0.25109745 | F23: 0.26 | G23: 0.24 | H23: =H22/H21 -> 0.24428684 | I23: =I22/I21 -> 0.21680217 | J23: 0.217
C24: Report the percentage of the procurement budget used for significant locations of operation spent on local suppliers to that operation. | D24: 0.147 | E24: 0.167 | F24: 0.216 | G24: 0.225 | H24: 0.216 | I24: 0.193 | J24: 0.176
C25: % of supply chain spend emissions reported | G25: n/a | H25: n/a | I25: n/a | J25: 1
D27: 2019/20 | E27: 2020/21 | F27: 2021/22 | G27: 2022/23 | H27: 2023/24 | I27: 2024/25 | J27: 2025/26
B28: Description of Supply Chain | D28: MAG cannot by law favour local suppliers. Under UCR regulations (OJEU) it would be a breach of UK and European contract law to do so as we are classed as a public utility and therefore captured under OJEU legislation. To specifically favour local contractors would be discriminatory under this legislation and leave us open to substantial fines and legal action by the European commission. On the other hand, we have robust evaluation procedures which we monitor contractors against and actively encourage contribution through contracting at regional level. | E28: MAG cannot by law favour local suppliers. Under the Public Procurement Amendment 2020 (PPAR), Utilities Contract Regulations (UCR) it would be a breach of UK contract law to do so as we are classed as a Utility and therefore captured under UK directives legislation. To specifically favour local contractors would be discriminatory under this legislation and leave us open to substantial fines and legal action. On the other hand, we have robust evaluation procedures which we monitor contractors against and actively encourage contribution through contracting at regional level. | F28: MAG cannot by law favour local suppliers. Under the Public Procurement Amendment 2020 (PPAR), Utilities Contract Regulations (UCR) it would be a breach of UK contract law to do so as we are classed as a Utility and therefore captured under UK directives legislation. To specifically favour local contractors would be discriminatory under this legislation and leave us open to substantial fines and legal action. On the other hand, we have robust evaluation procedures which we monitor contractors against and actively encourage contribution through contracting at regional level. | G28: MAG cannot by law stipulate criteria for suppliers based on size or locality due to required compliance with the Utilities Contracts Regulations 2016 which requires fair and open competition with all contracts advertised over published thresholds for goods, works and services. We do however, encourage local and SME engagement for smaller contracts, or via “tiering” into our main appointed contractors. We held two “Meet the Buyer” events in FY23, where local SME’s can make appointments to discuss business opportunities with our Tier 1 contractors, to encourage regional proximity for subcontracted work. | H28: MAG cannot by law stipulate criteria for suppliers based on size or locality due to required compliance with the Utilities Contracts Regulations 2016 which requires fair and open competition with all contracts advertised over published thresholds for goods, works and services. We do however, encourage local and SME engagement for smaller contracts, or via “tiering” into our main appointed contractors. We held three “Meet the Buyer” events in FY24, one at each airport for each airport locality. At these events local SME’s can make appointments to discuss business opportunities with our Tier 1 contractors, to encourage regional proximity for subcontracted work. | I28: MAG cannot by law stipulate criteria for suppliers based on size or locality due to required compliance with the Procurement Act 2023 which requires fair and open competition with all contracts advertised over published thresholds for goods, works and services. We do however, encourage local and SME engagement for smaller contracts, or via “tiering” into our main appointed contractors. We held two “Meet the Buyer” events in FY25, one at Stansted airport and one at Manchester airport. At these events local SME’s can make appointments to discuss business opportunities with our Tier 1 contractors, to encourage regional proximity for subcontracted work. | J28: MAG cannot by law stipulate criteria for suppliers based on size or locality due to required compliance with the Procurement Act 2023 which requires fair and open competition with all contracts advertised over published thresholds for goods, works and services. We do however, encourage local and SME engagement for smaller contracts, or via “tiering” into our main appointed contractors. We held two “Meet the Buyer” events in FY26, one at Stansted airport and one at Manchester airport, and will be holding a further event at East Midlands Airport in May 2026. At these events local SME’s can make appointments to discuss business opportunities with our Tier 1 contractors, to encourage regional proximity for subcontracted work.

Sheet GRI 205-1
A1: 205-1
A2: Operations assessed for risks related to corruption
D4: 2024/25 | F4: 2025/26
D5: Number | E5: % | F5: Number | G5: %
B6: Total number and percentage of operations assessed for risks related to corruption | D6: 11 | E6: 1 | F6: 11 | G6: 1
B7: Significant risks related to corruption identified through the risk assessment. | D7: 1 | E7: 0.006 | F7: 6 | G7: 0.05

Sheet GRI 304-1, 2, 3 & 4
B1: GRI 304-1, 2, 3, 4
B2: Land & Biodiversity
D4: 2019/20 | G4: 2020/21 | J4: 2021/22 | M4: 2022/23 | P4: 2023/24 | S4: 2024/25 | V4: 2025/26
B5: East Midlands | C5: Area of operational area under management (ha) | D5: 445 | G5: 445 | J5: 445 | M5: 445 | P5: 445 | S5: 445 | V5: 445
B6: Manchester | C6: Area of operational area under management (ha) | D6: 800 | G6: 800 | J6: 800 | M6: 800 | P6: 800 | S6: 800 | V6: 800
B7: Stansted | C7: Area of operational area under management (ha) | D7: 957 | G7: 957 | J7: 957 | M7: 957 | P7: 957 | S7: 957 | V7: 957
B8: Total | C8: Area of operational area under management (ha) | D8: =SUM(D5:D7) -> 2202 | G8: =SUM(G5:G7) -> 2202 | J8: =SUM(J5:J7) -> 2202 | M8: =SUM(M5:M7) -> 2202 | P8: =SUM(P5:P7) -> 2202 | S8: =SUM(S5:S7) -> 2202 | V8: =SUM(V5:V7) -> 2202
B10: East Midlands | C10: Number and length of runway | D10: Runway 27 - 09 (2,893m) | G10: Runway 27 - 09 (2,893m) | J10: Runway 27 - 09 (2,893m) | M10: Runway 27 - 09 (2,893m) | P10: Runway 27 - 09 (2,893m) | S10: Runway 27 - 09 (2,893m) | V10: Runway 27 - 09 (2,893m)
B11: Manchester | C11: Number and length of runway | D11: Runway 23R - 05L (3,048m) Runway 23L - 05R 3,048m) | G11: Runway 23R - 05L (3,048m) Runway 23L - 05R 3,048m) | J11: Runway 23R - 05L (3,048m) Runway 23L - 05R 3,048m) | M11: Runway 23R - 05L (3,048m) Runway 23L - 05R 3,048m) | P11: Runway 23R - 05L (3,048m) Runway 23L - 05R 3,048m) | S11: Runway 23R - 05L (3,048m) Runway 23L - 05R 3,048m) | V11: Runway 23R - 05L (3,048m) Runway 23L - 05R 3,048m)
B12: Stansted | C12: Number and length of runway | D12: Runway 22 - 04 (3,048m) | G12: Runway 22 - 04 (3,048m) | J12: Runway 22 - 04 (3,048m) | M12: Runway 22 - 04 (3,048m) | P12: Runway 22 - 04 (3,048m) | S12: Runway 22 - 04 (3,048m) | V12: Runway 22 - 04 (3,048m)
B15: Environmental -Biodiversity
D16: 2019/2020 | G16: 2020/21 | J16: 2021/22 | M16: 2022/23 | P16: 2023/24 | S16: 2024/25 | V16: 2025/26
J17: East Midlands | K17: Manchester | L17: London Stansted | M17: East Midlands | N17: Manchester | O17: London Stansted | P17: East Midlands | Q17: Manchester | R17: London Stansted | S17: East Midlands | T17: Manchester | U17: London Stansted | V17: East Midlands | W17: Manchester | X17: London Stansted
C18: 304-1 : Operational sites owned, leased, managed in, or adjacent to, protected areas and areas of high biodiversity value outside protected areas | D18: East Midlands | E18: Manchester | F18: London Sransted | G18: East Midlands | H18: Manchester | I18: London Stansted
C19: The reporting organization shall report the following information: a. For each operational site owned, leased, managed in, or adjacent to, protected areas and areas of high biodiversity value outside protected areas, the following informationi. i. Geographic location; | D19: Not reported | E19: Not reported | F19: Not reported | G19: n/a | H19: Cotteril Clough SSSI (OS Grid Ref: SJ 808 840) | I19: Elensham Woods (Eastend Wood) SSSI (OS Grid Ref: TL 561 252) | J19: n/a | K19: Cotteril Clough SSSI (OS Grid Ref: SJ 808 840) | L19: Elensham Woods (Eastend Wood) SSSI (OS Grid Ref: TL 561 252) | M19: n/a | N19: Cotteril Clough SSSI (OS Grid Ref: SJ 808 840) | O19: Elensham Woods (Eastend Wood) SSSI (OS Grid Ref: TL 561 252) | P19: n/a | Q19: Cotteril Clough SSSI (OS Grid Ref: SJ 808 840) | R19: Elensham Woods (Eastend Wood) SSSI (OS Grid Ref: TL 561 252) | S19: n/a | T19: Cotteril Clough SSSI (OS Grid Ref: SJ 808 840) | U19: Elensham Woods (Eastend Wood) SSSI (OS Grid Ref: TL 561 252) | V19: n/a | W19: Cotteril Clough SSSI (OS Grid Ref: SJ 808 840) | X19: Elensham Woods (Eastend Wood) SSSI (OS Grid Ref: TL 561 252)
C20: ii. Subsurface and underground land that may be owned, leased, or managed by the organization; | D20: Not reported | E20: Not reported | F20: Not reported | G20: n/a | H20: Cotteril Clough - Leased | I20: Elsenham Woods - Owned. | J20: n/a | K20: Cotteril Clough - Leased | L20: Elsenham Woods - Owned. | M20: n/a | N20: Cotteril Clough - Leased | O20: Elsenham Woods - Owned. | P20: n/a | Q20: Cotteril Clough - Leased | R20: Elsenham Woods - Owned. | S20: n/a | T20: Cotteril Clough - Leased | U20: Elsenham Woods - Owned. | V20: n/a | W20: Cotteril Clough - Leased | X20: Elsenham Woods - Owned.
C21: iii. Position in relation to the protected area (in the area, adjacent to, or containing portions of the protected area) or the high biodiversity value area outside protected areas; | D21: Not reported | E21: Not reported | F21: Not reported | G21: n/a | H21: Cotteril Clough - Adjacent | I21: Elsenham Woods - Adjacent | J21: n/a | K21: Cotteril Clough - Adjacent | L21: Elsenham Woods - Adjacent | M21: n/a | N21: Cotteril Clough - Adjacent | O21: Elsenham Woods - Adjacent | P21: n/a | Q21: Cotteril Clough - Adjacent | R21: Elsenham Woods - Adjacent | S21: n/a | T21: Cotteril Clough - Adjacent | U21: Elsenham Woods - Adjacent | V21: n/a | W21: Cotteril Clough - Adjacent | X21: Elsenham Woods - Adjacent
C22: iv. Type of operation (office, manufacturing or production, or extractive); | D22: Not reported | E22: Not reported | F22: Not reported | G22: n/a | H22: Cotteril Clough - adjacent use, Manchester Airport | I22: Elsenham Woods - adjacent use, Stansted Airport | J22: n/a | K22: Cotteril Clough - adjacent use, Manchester Airport | L22: Elsenham Woods - adjacent use, Stansted Airport | M22: n/a | N22: Cotteril Clough - adjacent use, Manchester Airport | O22: Elsenham Woods - adjacent use, Stansted Airport | P22: n/a | Q22: Cotteril Clough - adjacent use, Manchester Airport | R22: Elsenham Woods - adjacent use, Stansted Airport | S22: n/a | T22: Cotteril Clough - adjacent use, Manchester Airport | U22: Elsenham Woods - adjacent use, Stansted Airport | V22: n/a | W22: Cotteril Clough - adjacent use, Manchester Airport | X22: Elsenham Woods - adjacent use, Stansted Airport
C23: v. Size of operational site in km2 (or another unit, if appropriate); | D23: Not reported | E23: Not reported | F23: Not reported | G23: n/a | H23: Cotteril Clough - area of SSSI 3.39ha | I23: Elsenham Woods - area of SSSI 39.97ha | J23: n/a | K23: Cotteril Clough - area of SSSI 3.39ha | L23: Elsenham Woods - area of SSSI 39.97ha | M23: n/a | N23: Cotteril Clough - area of SSSI 3.39ha | O23: Elsenham Woods - area of SSSI 39.97ha | P23: n/a | Q23: Cotteril Clough - area of SSSI 3.39ha | R23: Elsenham Woods - area of SSSI 39.97ha | S23: n/a | T23: Cotteril Clough - area of SSSI 3.39ha | U23: Elsenham Woods - area of SSSI 39.97ha | V23: n/a | W23: Cotteril Clough - area of SSSI 3.39ha | X23: Elsenham Woods - area of SSSI 39.97ha
C24: vi. Biodiversity value characterized by the attribute of the protected area or area of high biodiversity value outside the protected area (terrestrial, freshwater, or maritime ecosystem); | D24: Not reported | E24: Not reported | F24: Not reported | G24: n/a | H24: Cotteril Clough - broadleaved, mixed and yew woodland - Lowland | I24: Elsenham Woods - broadleaved, mixed and yew woodland - Lowland | J24: n/a | K24: Cotteril Clough - broadleaved, mixed and yew woodland - Lowland | L24: Elsenham Woods - broadleaved, mixed and yew woodland - Lowland | M24: n/a | N24: Cotteril Clough - broadleaved, mixed and yew woodland - Lowland | O24: Elsenham Woods - broadleaved, mixed and yew woodland - Lowland | P24: n/a | Q24: Cotteril Clough - broadleaved, mixed and yew woodland - Lowland | R24: Elsenham Woods - broadleaved, mixed and yew woodland - Lowland | S24: n/a | T24: Cotteril Clough - broadleaved, mixed and yew woodland - Lowland | U24: Elsenham Woods - broadleaved, mixed and yew woodland - Lowland | V24: n/a | W24: Cotteril Clough - broadleaved, mixed and yew woodland - Lowland | X24: Elsenham Woods - broadleaved, mixed and yew woodland - Lowland
C25: vii. Biodiversity value characterized by listing of protected status (such as IUCN Protected Area Management Categories, Ramsar Convention, national legislation). | D25: Not reported | E25: Not reported | F25: Not reported | G25: n/a | H25: Cotteril Clough - Site of Special Scientific Interest - Wildlife and Countryside Act 1981 (amended 1985) and Countryside and Rights of Way Act 2000 | I25: Elsenham Woods - Site of Special Scientific Interest (SSSI) - Wildlife and Countryside Act 1981 (amended 1985) and Countryside and Rights of Way Act 2000 | J25: n/a | K25: Cotteril Clough - Site of Special Scientific Interest - Wildlife and Countryside Act 1981 (amended 1985) and Countryside and Rights of Way Act 2000 | L25: Elsenham Woods - Site of Special Scientific Interest (SSSI) - Wildlife and Countryside Act 1981 (amended 1985) and Countryside and Rights of Way Act 2000 | M25: n/a | N25: Cotteril Clough - Site of Special Scientific Interest - Wildlife and Countryside Act 1981 (amended 1985) and Countryside and Rights of Way Act 2000 | O25: Elsenham Woods - Site of Special Scientific Interest (SSSI) - Wildlife and Countryside Act 1981 (amended 1985) and Countryside and Rights of Way Act 2000 | P25: n/a | Q25: Cotteril Clough - Site of Special Scientific Interest - Wildlife and Countryside Act 1981 (amended 1985) and Countryside and Rights of Way Act 2000 | R25: Elsenham Woods - Site of Special Scientific Interest (SSSI) - Wildlife and Countryside Act 1981 (amended 1985) and Countryside and Rights of Way Act 2000 | S25: n/a | T25: Cotteril Clough - Site of Special Scientific Interest - Wildlife and Countryside Act 1981 (amended 1985) and Countryside and Rights of Way Act 2000 | U25: Elsenham Woods - Site of Special Scientific Interest (SSSI) - Wildlife and Countryside Act 1981 (amended 1985) and Countryside and Rights of Way Act 2000 | V25: n/a | W25: Cotteril Clough - Site of Special Scientific Interest - Wildlife and Countryside Act 1981 (amended 1985) and Countryside and Rights of Way Act 2000 | X25: Elsenham Woods - Site of Special Scientific Interest (SSSI) - Wildlife and Countryside Act 1981 (amended 1985) and Countryside and Rights of Way Act 2000
C26: 304-2 : Significant impacts of activities, products, and services on biodiversity
C27: The reporting organization shall report the following information: a. Nature of significant direct and indirect impacts on biodiversity with reference to one or more of the following: i. Construction or use of manufacturing plants, mines, and transport infrastructure; | D27: Not reported | E27: Not reported | F27: Not reported | G27: n/a | H27: Cotteril Clough SSSI - Adjacent Manchester Airport | I27: Elsenham Woods SSSI - Adjacent Stansted Airport | J27: n/a | K27: Cotteril Clough SSSI - Adjacent Manchester Airport | L27: Elsenham Woods SSSI - Adjacent Stansted Airport | M27: n/a | N27: Cotteril Clough SSSI - Adjacent Manchester Airport | O27: Elsenham Woods SSSI - Adjacent Stansted Airport | P27: n/a | Q27: Cotteril Clough SSSI - Adjacent Manchester Airport | R27: Elsenham Woods SSSI - Adjacent Stansted Airport | S27: n/a | T27: Cotteril Clough SSSI - Adjacent Manchester Airport | U27: Elsenham Woods SSSI - Adjacent Stansted Airport | V27: n/a | W27: n/a | X27: Elsenham Woods SSSI - Adjacent Stansted Airport
C28: ii. Pollution (introduction of substances that do not naturally occur in the habitat from point and non-point sources); | D28: Not reported | E28: Not reported | F28: Not reported | G28: n/a | H28: Cotteril Clough SSSI - quality of storm water (GRI A01), air quality, NO2, PM10, O3 (GRI A05) | I28: Elsenham Woods SSSI - quality of storm water (GRI A01), air quality, NO2,PM10, O3 (GRI A05) | J28: n/a | K28: Cotteril Clough SSSI - quality of storm water (GRI A01), air quality, NO2, PM10, O3 (GRI A05) | L28: Elsenham Woods SSSI - quality of storm water (GRI A01), air quality, NO2,PM10, O3 (GRI A05) | M28: n/a | N28: Cotteril Clough SSSI - quality of storm water (GRI A01), air quality, NO2, PM10, O3 (GRI A05) | O28: Elsenham Woods SSSI - quality of storm water (GRI A01), air quality, NO2,PM10, O3 (GRI A05) | P28: n/a | Q28: Cotteril Clough SSSI - quality of storm water (GRI A01), air quality, NO2, PM10, O3 (GRI A05) | R28: Elsenham Woods SSSI - quality of storm water (GRI A01), air quality, NO2,PM10, O3 (GRI A05) | S28: n/a | T28: Cotteril Clough SSSI - quality of storm water (GRI A01), air quality, NO2, PM10, O3 (GRI A05) | U28: Elsenham Woods SSSI - quality of storm water (GRI A01), air quality, NO2,PM10, O3 (GRI A05) | V28: River Trent - outfall pipe which discharges surface water runoff during winter months in-line with Environment Agency permit | W28: Cotteril Clough SSSI - quality of storm water (GRI A01), air quality, NO2, PM10, O3 (GRI A05) | X28: Elsenham Woods SSSI - quality of storm water (GRI A01), air quality, NO2,PM10, O3 (GRI A05)
C29: iii. Introduction of invasive species, pests, and pathogens; | D29: Not reported | E29: Not reported | F29: Not reported | G29: n/a | H29: Cotteril Clough SSSI n/a | I29: Elsenham Woods SSSI - n/a | J29: n/a | K29: Cotteril Clough SSSI n/a | L29: Elsenham Woods SSSI - n/a | M29: n/a | N29: Cotteril Clough SSSI n/a | O29: Elsenham Woods SSSI - n/a | P29: n/a | Q29: Cotteril Clough SSSI n/a | R29: Elsenham Woods SSSI - n/a | S29: n/a | T29: Cotteril Clough SSSI n/a | U29: Elsenham Woods SSSI - n/a | V29: n/a | W29: n/a | X29: Elsenham Woods SSSI - n/a
C30: iv. Reduction of species; | D30: Not reported | E30: Not reported | F30: Not reported | G30: n/a | H30: Cotteril Clough SSSI n/a | I30: Elsenham Woods SSSI - management of native deer population to protect flora and habitat. | J30: n/a | K30: Cotteril Clough SSSI n/a | L30: Elsenham Woods SSSI - management of native deer population to protect flora and habitat. | M30: n/a | N30: Cotteril Clough SSSI n/a | O30: Elsenham Woods SSSI - management of native deer population to protect flora and habitat. | P30: n/a | Q30: Cotteril Clough SSSI n/a | R30: Elsenham Woods SSSI - management of native deer population to protect flora and habitat. | S30: n/a | T30: Cotteril Clough SSSI n/a | U30: Elsenham Woods SSSI - management of native deer population to protect flora and habitat. | V30: n/a | W30: n/a | X30: Elsenham Woods SSSI - management of native deer population to protect flora and habitat.
C31: v. Habitat conversion; | D31: Not reported | E31: Not reported | F31: Not reported | G31: n/a | H31: Cotteril Clough SSSI n/a | I31: Elsenham Woods SSSI - n/a | J31: n/a | K31: Cotteril Clough SSSI n/a | L31: Elsenham Woods SSSI - n/a | M31: n/a | N31: Cotteril Clough SSSI n/a | O31: Elsenham Woods SSSI - n/a | P31: n/a | Q31: Cotteril Clough SSSI n/a | R31: Elsenham Woods SSSI - n/a | S31: n/a | T31: Cotteril Clough SSSI n/a | U31: Elsenham Woods SSSI - n/a | V31: n/a | W31: n/a | X31: Elsenham Woods SSSI - n/a
C32: vi. Changes in ecological processes outside the natural range of variation (such as salinity or changes in groundwater level). | D32: Not reported | E32: Not reported | F32: Not reported | G32: n/a | H32: Cotteril Clough SSSI - changes in surface water runoff volume | I32: Elsenham Woods SSSI - n/a | J32: n/a | K32: Cotteril Clough SSSI - changes in surface water runoff volume | L32: Elsenham Woods SSSI - n/a | M32: n/a | N32: Cotteril Clough SSSI - changes in surface water runoff volume | O32: Elsenham Woods SSSI - n/a | P32: n/a | Q32: Cotteril Clough SSSI - changes in surface water runoff volume | R32: Elsenham Woods SSSI - n/a | S32: n/a | T32: Cotteril Clough SSSI - changes in surface water runoff volume | U32: Elsenham Woods SSSI - n/a | V32: n/a | W32: Cotteril Clough SSSI - changes in surface water runoff volume | X32: Elsenham Woods SSSI - n/a
C33: b. Significant direct and indirect positive and negative impacts with reference to the following: i. Species affected; | D33: Not reported | E33: Not reported | F33: Not reported | G33: n/a | H33: Cotteril Clough SSSI - negative | I33: Elsenham Woods SSSI - negative | J33: n/a | K33: Cotteril Clough SSSI - negative | L33: Elsenham Woods SSSI - negative | M33: n/a | N33: Cotteril Clough SSSI - negative | O33: Elsenham Woods SSSI - negative | P33: n/a | Q33: Cotteril Clough SSSI - negative (snowberries/ash dieback) | R33: Elsenham Woods SSSI - negative | S33: n/a | T33: Cotteril Clough SSSI - negative (snowberries/ash dieback) | U33: Elsenham Woods SSSI - negative | V33: River Trent - n/a - aquatic macorinvertebrates survey has shown no significant impact | W33: Cotteril Clough - n/a - Site still in favourable condition | X33: Elsenham Woods SSSI - negative
C34: ii. Extent of areas impacted; | D34: Not reported | E34: Not reported | F34: Not reported | G34: n/a | H34: Cotteril Clough SSSI 3.39ha | I34: Elsenham Woods SSSI - 39.97ha | J34: n/a | K34: Cotteril Clough SSSI 3.39ha | L34: Elsenham Woods SSSI - 39.97ha | M34: n/a | N34: Cotteril Clough SSSI 3.39ha | O34: Elsenham Woods SSSI - 39.97ha | P34: n/a | Q34: Cotteril Clough SSSI 3.39ha | R34: Elsenham Woods SSSI - 39.97ha | S34: n/a | T34: Cotteril Clough SSSI 3.39ha | U34: Elsenham Woods SSSI - 39.97ha | V34: River Trent - approx 200m downstream of outfall pipe | W34: n/a | X34: Elsenham Woods SSSI - 39.97ha
C35: iii. Duration of impacts; | D35: Not reported | E35: Not reported | F35: Not reported | G35: n/a | H35: Cotteril Clough SSSI - Continuous | I35: Elsenham Woods SSSI - Continuous | J35: n/a | K35: Cotteril Clough SSSI - Continuous | L35: Elsenham Woods SSSI - Continuous | M35: n/a | N35: Cotteril Clough SSSI - Continuous | O35: Elsenham Woods SSSI - Continuous | P35: n/a | Q35: Cotteril Clough SSSI - Continuous | R35: Elsenham Woods SSSI - Continuous | S35: n/a | T35: Cotteril Clough SSSI - Continuous | U35: Elsenham Woods SSSI - Continuous | V35: River Trent - Winter months | W35: n/a | X35: Elsenham Woods SSSI - Continuous
C36: iv. Reversibility or irreversibility of the impacts. | D36: Not reported | E36: Not reported | F36: Not reported | G36: n/a | H36: Cotteril Clough SSSI - Reversable | I36: Elsenham Woods SSSI - Reversable | J36: n/a | K36: Cotteril Clough SSSI - Reversable | L36: Elsenham Woods SSSI - Reversable | M36: n/a | N36: Cotteril Clough SSSI - Reversable | O36: Elsenham Woods SSSI - Reversable | P36: n/a | Q36: Cotteril Clough SSSI - Reversable | R36: Elsenham Woods SSSI - Reversable | S36: n/a | T36: Cotteril Clough SSSI - Reversable | U36: Elsenham Woods SSSI - Reversable | V36: River Trent - Reversible via stopping pumping | W36: n/a | X36: Elsenham Woods SSSI - Reversable
C37: 304-3 : Habitats protected or restored
C38: The reporting organization shall report the following information: a. Size and location of all habitat areas protected or restored, and whether the success of the restoration measure was or is approved by independent external professionals. | D38: Not reported | E38: Not reported | F38: Not reported | G38: n/a | H38: n/a | I38: Elsenham Woods SSSI - 39.97ha of managed woodland management overseen by independent professional ecologists (Penny Anderson Associates) | J38: n/a | K38: n/a | L38: Elsenham Woods SSSI - 39.97ha of managed woodland management overseen by independent professional ecologists (Penny Anderson Associates) | M38: n/a | N38: n/a | O38: Elsenham Woods SSSI - 39.97ha of managed woodland management overseen by independent professional ecologists (Penny Anderson Associates) | P38: n/a | Q38: n/a | R38: Elsenham Woods SSSI - 39.97ha of managed woodland management overseen by independent professional ecologists (Penny Anderson Associates) | S38: n/a | T38: n/a | U38: Elsenham Woods SSSI - 39.97ha of managed woodland management overseen by independent professional ecologists (Penny Anderson Associates) | V38: n/a | W38: Cotteril Clough SSSI - Snowberry removed to restore ground flora. Successful, approved by Natural England. | X38: Elsenham Woods SSSI - 39.97ha of managed woodland management overseen by independent professional ecologists (Penny Anderson Associates)
C39: b. Whether partnerships exist with third parties to protect or restore habitat areas distinct from where the organization has overseen and implemented restoration or protection measures. | D39: Not reported | E39: Not reported | F39: Not reported | G39: n/a | H39: n/a | I39: Elsenham Woods SSSI - Partnerships with Natural England (condition and management) and Natural England / Forestry Commission (Countryside Stewardship Scheme) | J39: n/a | K39: n/a | L39: Elsenham Woods SSSI - Partnerships with Natural England (condition and management) and Natural England / Forestry Commission (Countryside Stewardship Scheme) | M39: n/a | N39: n/a | O39: Elsenham Woods SSSI - Partnerships with Natural England (condition and management) and Natural England / Forestry Commission (Countryside Stewardship Scheme) | P39: n/a | Q39: n/a | R39: Elsenham Woods SSSI - Partnerships with Natural England (condition and management) and Natural England / Forestry Commission (Countryside Stewardship Scheme) | S39: n/a | T39: n/a | U39: Elsenham Woods SSSI - Partnerships with Natural England (condition and management) and Natural England / Forestry Commission (Countryside Stewardship Scheme) | V39: n/a | W39: n/a | X39: Elsenham Woods SSSI - Partnerships with Natural England (condition and management) and Natural England / Forestry Commission (Countryside Stewardship Scheme)
C40: c. Status of each area based on its condition at the close of the reporting period. | D40: Not reported | E40: Not reported | F40: Not reported | G40: n/a | H40: Cotteril Clough SSSI - Condition Favourable (Natural England 14/08/20) | I40: Elsenham Woods SSSI - Condition Favourable (Natural England 17/0116) | J40: n/a | K40: Cotteril Clough SSSI - Condition Favourable (Natural England 14/08/20) | L40: Elsenham Woods SSSI - Condition Favourable (Natural England 17/0116) | M40: n/a | N40: Cotteril Clough SSSI - Condition Favourable (Natural England 14/08/20) | O40: Elsenham Woods SSSI - Condition Favourable (Natural England 17/0116) | P40: n/a | Q40: Cotteril Clough SSSI - Condition Favourable (Natural England 01/03/2024) | R40: Elsenham Woods SSSI - Condition Favourable (Natural England 17/01/16) | S40: n/a | T40: Cotteril Clough SSSI - Condition Favourable (Natural England 01/03/2024) | U40: Elsenham Woods SSSI - Condition Favourable (Natural England 17/01/16) | V40: n/a | W40: Cotteril Clough SSSI - Condition Favourable (Natural England 01/03/2024) | X40: Elsenham Woods SSSI - Condition Favourable (Natural England 17/01/16)
C41: d. Standards, methodologies, and assumptions used. | D41: Not reported | E41: Not reported | F41: Not reported | G41: n/a | H41: Cotteril Clough SSSI - Natural England Assessment (https://designatedsites.naturalengland.org.uk/UnitDetail.aspx?UnitId=1011471) | I41: Elsenham Woods SSSI - Natural England Assessment (https://designatedsites.naturalengland.org.uk/UnitDetail.aspx?UnitId=10050860) | J41: n/a | K41: Cotteril Clough SSSI - Natural England Assessment (https://designatedsites.naturalengland.org.uk/UnitDetail.aspx?UnitId=1011471) | L41: Elsenham Woods SSSI - Natural England Assessment (https://designatedsites.naturalengland.org.uk/UnitDetail.aspx?UnitId=10050860) | M41: n/a | N41: Cotteril Clough SSSI - Natural England Assessment (https://designatedsites.naturalengland.org.uk/UnitDetail.aspx?UnitId=1011471) | O41: Elsenham Woods SSSI - Natural England Assessment (https://designatedsites.naturalengland.org.uk/UnitDetail.aspx?UnitId=10050860) | P41: n/a | Q41: Cotteril Clough SSSI - Natural England Assessment (https://designatedsites.naturalengland.org.uk/UnitDetail.aspx?UnitId=1011471) | R41: Elsenham Woods SSSI - Natural England Assessment (https://designatedsites.naturalengland.org.uk/UnitDetail.aspx?UnitId=10050860) | S41: n/a | T41: Cotteril Clough SSSI - Natural England Assessment (https://designatedsites.naturalengland.org.uk/UnitDetail.aspx?UnitId=1011471) | U41: Elsenham Woods SSSI - Natural England Assessment (https://designatedsites.naturalengland.org.uk/UnitDetail.aspx?UnitId=10050860) | V41: n/a | W41: Cotteril Clough SSSI - Condition Favourable (Natural England 01/03/2024) | X41: Elsenham Woods SSSI - Natural England Assessment (https://designatedsites.naturalengland.org.uk/UnitDetail.aspx?UnitId=10050860)
C42: 304-4 : IUCN Red List species and national conservation list species with habitats in areas affected by operations
C43: The reporting organization shall report the following information: a. Total number of IUCN Red List species and national conservation list species with habitats in areas affected by the operations of the organization, by level of extinction i. Critically endangered | D43: Not reported | E43: Not reported | F43: Not reported | G43: Not Available | H43: Not Available | I43: Not Available | J43: Not Available | K43: Not Available | L43: Not Available | M43: Not Available | N43: Not Available | O43: Not Available | P43: Not Available | Q43: Not Available | R43: Not Available | S43: Not Available | T43: Not Available | U43: Not Available | V43: Not Available | W43: Not Available | X43: Not Available
C44: ii. Endangered | D44: Not reported | E44: Not reported | F44: Not reported | G44: Not Available | H44: Not Available | I44: Not Available | J44: Not Available | K44: Not Available | L44: Not Available | M44: Not Available | N44: Not Available | O44: Not Available | P44: Not Available | Q44: Not Available | R44: Not Available | S44: Not Available | T44: Not Available | U44: Not Available | V44: Not Available | W44: Not Available | X44: Not Available
...

Sheet GRI 401-1
A1: GRI 401-1
A2: New employee hires and employee turnover
B4: 2019/20 | C4: 2020/21 | Q4: 2021/22 | S4: 2022/23 | AG4: 2023/24 | AU4: 2024/25 | BI4: 2025/26
A5: Headcount | C5: 43951 | D5: 43982 | E5: 44012 | F5: 44043 | G5: 44074 | H5: 44104 | I5: 44135 | J5: 44165 | K5: 44196 | L5: 44227 | M5: 44255 | N5: 44286 | O5: Average | P5: % | Q5: Average | R5: % | S5: 44681 | T5: 44712 | U5: 44742 | V5: 44773 | W5: 44804 | X5: 44834 | Y5: 44865 | Z5: 44895 | AA5: 44926 | AB5: 44957 | AC5: 44985 | AD5: 45016 | AE5: Average | AF5: % | AG5: 45030 | AH5: 45062 | AI5: 45094 | AJ5: 45126 | AK5: 45158 | AL5: 45190 | AM5: 45222 | AN5: 45254 | AO5: 45286 | AP5: 45318 | AQ5: 45350 | AR5: 45382 | AS5: Average | AT5: % | AU5: 45396 | AV5: 45428 | AW5: 45460 | AX5: 45492 | AY5: 45524 | AZ5: 45556 | BA5: 45588 | BB5: 45620 | BC5: 45652 | BD5: 45684 | BE5: 45716 | BF5: 45717 | BG5: Average | BH5: % | BI5: 45761 | BJ5: 45793 | BK5: 45825 | BL5: 45857 | BM5: 45889 | BN5: 45921 | BO5: 45953 | BP5: 45985 | BQ5: 46017 | BR5: 46049 | BS5: 46081 | BT5: 46082 | BU5: Average | BV5: %
